BEGIN:VCALENDAR
VERSION:2.0
PRODID:-//Saskatchewan Blind Sports Association - ECPv6.7.1//NONSGML v1.0//EN
CALSCALE:GREGORIAN
METHOD:PUBLISH
X-ORIGINAL-URL:https://saskblindsports.ca
X-WR-CALDESC:Events for Saskatchewan Blind Sports Association
REFRESH-INTERVAL;VALUE=DURATION:PT1H
X-Robots-Tag:noindex
X-PUBLISHED-TTL:PT1H
BEGIN:VTIMEZONE
TZID:America/Chicago
BEGIN:DAYLIGHT
TZOFFSETFROM:-0600
TZOFFSETTO:-0500
TZNAME:CDT
DTSTART:20240310T080000
END:DAYLIGHT
BEGIN:STANDARD
TZOFFSETFROM:-0500
TZOFFSETTO:-0600
TZNAME:CST
DTSTART:20241103T070000
END:STANDARD
END:VTIMEZONE
BEGIN:VEVENT
DTSTART;TZID=America/Chicago:20241201T150000
DTEND;TZID=America/Chicago:20241201T160000
DTSTAMP:20260420T235326
CREATED:20241101T183306Z
LAST-MODIFIED:20241118T223639Z
UID:2661-1733065200-1733068800@saskblindsports.ca
SUMMARY:Blind Ice Hockey
DESCRIPTION:Blind Ice Hockey in Saskatchewan is governed by the Saskatchewan Blind Sports Association in accordance with the policies and procedures outlined in this document. The SASKATCHEWAN BLIND SPORTS ASSOCIATION operates under the guidance of Canadian Blind Ice Hockey.
URL:https://saskblindsports.ca/event/ice-hockey/
LOCATION:Merlis Belsher\, 2010 College Dr\, Saskatoon\, SK S7N 1L5\, Saskatoon\, Saskatchewan\, S7N 1L5\, Canada
ATTACH;FMTTYPE=image/jpeg:https://saskblindsports.ca/wp-content/uploads/2024/11/9F089184-BB74-47B8-AF0B-126B4CDF311D.jpg
END:VEVENT
END:VCALENDAR